Package: RMassBank Version: 3.16.0 Command: /Library/Frameworks/R.framework/Resources/bin/R CMD check --install=check:RMassBank.install-out.txt --library=/Library/Frameworks/R.framework/Resources/library --no-vignettes --timings RMassBank_3.16.0.tar.gz StartedAt: 2025-02-01 06:57:59 -0500 (Sat, 01 Feb 2025) EndedAt: 2025-02-01 07:03:57 -0500 (Sat, 01 Feb 2025) EllapsedTime: 358.4 seconds RetCode: 0 Status: OK CheckDir: RMassBank.Rcheck Warnings: 0