Package: RMassBank Version: 3.16.0 Command: rm -rf RMassBank.buildbin-libdir && mkdir RMassBank.buildbin-libdir && /Users/biocbuild/BBS/utils/build-universal.sh RMassBank_3.16.0.tar.gz /Library/Frameworks/R.framework/Resources/bin/R RMassBank.buildbin-libdir StartedAt: 2025-02-01 16:33:36 -0500 (Sat, 01 Feb 2025) EndedAt: 2025-02-01 16:34:37 -0500 (Sat, 01 Feb 2025) EllapsedTime: 61.0 seconds RetCode: 0 Status: OK PackageFile: RMassBank_3.16.0.tgz PackageFileSize: 2.749 MiB