Package: RIVER Version: 1.30.0 Command: /home/biocbuild/R/R/bin/R CMD check --install=check:RIVER.install-out.txt --library=/home/biocbuild/R/R/site-library --no-vignettes --timings RIVER_1.30.0.tar.gz StartedAt: 2025-01-31 09:44:52 -0000 (Fri, 31 Jan 2025) EndedAt: 2025-01-31 09:46:26 -0000 (Fri, 31 Jan 2025) EllapsedTime: 94.1 seconds RetCode: 0 Status: OK CheckDir: RIVER.Rcheck Warnings: 0