Package: RGraph2js Version: 1.34.0 Command: /Library/Frameworks/R.framework/Resources/bin/R CMD INSTALL RGraph2js StartedAt: 2025-01-30 15:45:32 -0500 (Thu, 30 Jan 2025) EndedAt: 2025-01-30 15:45:40 -0500 (Thu, 30 Jan 2025) EllapsedTime: 8.1 seconds RetCode: 0 Status: OK