Package: RGSEA Version: 1.40.0 Command: F:\biocbuild\bbs-3.20-bioc\R\bin\R.exe CMD INSTALL RGSEA StartedAt: 2025-01-30 15:20:52 -0500 (Thu, 30 Jan 2025) EndedAt: 2025-01-30 15:21:01 -0500 (Thu, 30 Jan 2025) EllapsedTime: 8.4 seconds RetCode: 0 Status: OK