Package: RESOLVE Version: 1.8.0 Command: /Library/Frameworks/R.framework/Resources/bin/R CMD INSTALL RESOLVE StartedAt: 2025-01-30 16:47:27 -0500 (Thu, 30 Jan 2025) EndedAt: 2025-01-30 16:48:51 -0500 (Thu, 30 Jan 2025) EllapsedTime: 83.5 seconds RetCode: 0 Status: OK