Package: RESOLVE Version: 1.8.0 Command: /Library/Frameworks/R.framework/Resources/bin/R CMD build --keep-empty-dirs --no-resave-data RESOLVE StartedAt: 2025-01-30 22:13:19 -0500 (Thu, 30 Jan 2025) EndedAt: 2025-01-30 22:15:18 -0500 (Thu, 30 Jan 2025) EllapsedTime: 118.8 seconds RetCode: 0 Status: OK PackageFile: RESOLVE_1.8.0.tar.gz PackageFileSize: 735.5 KiB