Package: RESOLVE Version: 1.8.0 Command: /Library/Frameworks/R.framework/Resources/bin/R CMD build --keep-empty-dirs --no-resave-data RESOLVE StartedAt: 2025-01-31 06:22:15 -0500 (Fri, 31 Jan 2025) EndedAt: 2025-01-31 06:23:23 -0500 (Fri, 31 Jan 2025) EllapsedTime: 67.4 seconds RetCode: 0 Status: OK PackageFile: RESOLVE_1.8.0.tar.gz PackageFileSize: 735.5 KiB