Package: REMP Version: 1.30.0 Command: /Library/Frameworks/R.framework/Resources/bin/R CMD check --install=check:REMP.install-out.txt --library=/Library/Frameworks/R.framework/Resources/library --no-vignettes --timings REMP_1.30.0.tar.gz StartedAt: 2025-02-01 06:22:29 -0500 (Sat, 01 Feb 2025) EndedAt: 2025-02-01 06:31:35 -0500 (Sat, 01 Feb 2025) EllapsedTime: 546.1 seconds RetCode: 0 Status: OK CheckDir: REMP.Rcheck Warnings: 0