Package: REMP Version: 1.30.0 Command: rm -rf REMP.buildbin-libdir && mkdir REMP.buildbin-libdir && /Users/biocbuild/BBS/utils/build-universal.sh REMP_1.30.0.tar.gz /Library/Frameworks/R.framework/Resources/bin/R REMP.buildbin-libdir StartedAt: 2025-02-01 16:26:41 -0500 (Sat, 01 Feb 2025) EndedAt: 2025-02-01 16:27:51 -0500 (Sat, 01 Feb 2025) EllapsedTime: 70.0 seconds RetCode: 0 Status: OK PackageFile: REMP_1.30.0.tgz PackageFileSize: 691.1 KiB