Package: REBET Version: 1.24.0 Command: F:\biocbuild\bbs-3.20-bioc\R\bin\R.exe CMD check --no-multiarch --install=check:REBET.install-out.txt --library=F:\biocbuild\bbs-3.20-bioc\R\library --no-vignettes --timings REBET_1.24.0.tar.gz StartedAt: 2025-01-31 05:33:33 -0500 (Fri, 31 Jan 2025) EndedAt: 2025-01-31 05:34:47 -0500 (Fri, 31 Jan 2025) EllapsedTime: 74.0 seconds RetCode: 0 Status: OK CheckDir: REBET.Rcheck Warnings: 0