Package: REBET Version: 1.24.0 Command: rm -rf REBET.buildbin-libdir && mkdir REBET.buildbin-libdir && F:\biocbuild\bbs-3.20-bioc\R\bin\R.exe CMD INSTALL --build --library=REBET.buildbin-libdir REBET_1.24.0.tar.gz StartedAt: 2025-01-31 09:24:18 -0500 (Fri, 31 Jan 2025) EndedAt: 2025-01-31 09:24:31 -0500 (Fri, 31 Jan 2025) EllapsedTime: 13.1 seconds RetCode: 0 Status: OK PackageFile: REBET_1.24.0.zip PackageFileSize: 234.1 KiB