Package: RDRToolbox Version: 1.56.0 Command: /home/biocbuild/bbs-3.20-bioc/R/bin/R CMD check --install=check:RDRToolbox.install-out.txt --library=/home/biocbuild/bbs-3.20-bioc/R/site-library --timings RDRToolbox_1.56.0.tar.gz StartedAt: 2024-11-20 08:10:53 -0500 (Wed, 20 Nov 2024) EndedAt: 2024-11-20 08:11:36 -0500 (Wed, 20 Nov 2024) EllapsedTime: 43.1 seconds RetCode: 0 Status: OK CheckDir: RDRToolbox.Rcheck Warnings: 0