Package: RDRToolbox Version: 1.56.0 Command: /home/biocbuild/R/R/bin/R CMD build --keep-empty-dirs --no-resave-data RDRToolbox StartedAt: 2025-01-31 02:03:50 -0000 (Fri, 31 Jan 2025) EndedAt: 2025-01-31 02:03:59 -0000 (Fri, 31 Jan 2025) EllapsedTime: 9.0 seconds RetCode: 0 Status: OK PackageFile: RDRToolbox_1.56.0.tar.gz PackageFileSize: 185.9 KiB