Package: RDRToolbox Version: 1.56.0 Command: F:\biocbuild\bbs-3.20-bioc\R\bin\R.exe CMD INSTALL RDRToolbox StartedAt: 2025-01-30 15:48:43 -0500 (Thu, 30 Jan 2025) EndedAt: 2025-01-30 15:48:54 -0500 (Thu, 30 Jan 2025) EllapsedTime: 10.9 seconds RetCode: 0 Status: OK