Package: RDRToolbox Version: 1.56.0 Command: /home/biocbuild/bbs-3.20-bioc/R/bin/R CMD build --keep-empty-dirs --no-resave-data --md5 RDRToolbox StartedAt: 2025-01-30 18:46:01 -0500 (Thu, 30 Jan 2025) EndedAt: 2025-01-30 18:46:14 -0500 (Thu, 30 Jan 2025) EllapsedTime: 13.0 seconds RetCode: 0 Status: OK PackageFile: RDRToolbox_1.56.0.tar.gz PackageFileSize: 191.3 KiB