Package: RCyjs Version: 2.28.0 Command: /home/biocbuild/R/R/bin/R CMD check --install=check:RCyjs.install-out.txt --library=/home/biocbuild/R/R/site-library --no-vignettes --timings RCyjs_2.28.0.tar.gz StartedAt: 2025-01-31 09:33:12 -0000 (Fri, 31 Jan 2025) EndedAt: 2025-01-31 09:33:51 -0000 (Fri, 31 Jan 2025) EllapsedTime: 39.0 seconds RetCode: 0 Status: WARNINGS CheckDir: RCyjs.Rcheck Warnings: 1