Package: RCM Version: 1.22.0 Command: chmod a+r RCM -R && F:\biocbuild\bbs-3.20-bioc\R\bin\R.exe CMD build --keep-empty-dirs --no-resave-data RCM StartedAt: 2025-01-30 21:17:36 -0500 (Thu, 30 Jan 2025) EndedAt: 2025-01-30 21:19:38 -0500 (Thu, 30 Jan 2025) EllapsedTime: 121.7 seconds RetCode: 0 Status: OK PackageFile: RCM_1.22.0.tar.gz PackageFileSize: 3.16 MiB