Package: RCASPAR Version: 1.52.0 Command: /home/biocbuild/bbs-3.20-bioc/R/bin/R CMD INSTALL RCASPAR StartedAt: 2025-01-30 15:07:30 -0500 (Thu, 30 Jan 2025) EndedAt: 2025-01-30 15:07:42 -0500 (Thu, 30 Jan 2025) EllapsedTime: 12.3 seconds RetCode: 0 Status: OK