Package: RCAS Version: 1.32.0 Command: chmod a+r RCAS -R && F:\biocbuild\bbs-3.20-bioc\R\bin\R.exe CMD build --keep-empty-dirs --no-resave-data RCAS StartedAt: 2025-01-30 21:17:07 -0500 (Thu, 30 Jan 2025) EndedAt: 2025-01-30 21:21:22 -0500 (Thu, 30 Jan 2025) EllapsedTime: 255.0 seconds RetCode: 0 Status: OK PackageFile: RCAS_1.32.0.tar.gz PackageFileSize: 1.34 MiB