Package: RBioinf Version: 1.66.0 Command: /home/biocbuild/R/R/bin/R CMD build --keep-empty-dirs --no-resave-data RBioinf StartedAt: 2025-01-31 02:00:54 -0000 (Fri, 31 Jan 2025) EndedAt: 2025-01-31 02:01:05 -0000 (Fri, 31 Jan 2025) EllapsedTime: 11.0 seconds RetCode: 0 Status: OK PackageFile: RBioinf_1.66.0.tar.gz PackageFileSize: 3.539 MiB