Package: RBioinf Version: 1.66.0 Command: chmod a+r RBioinf -R && F:\biocbuild\bbs-3.20-bioc\R\bin\R.exe CMD build --keep-empty-dirs --no-resave-data RBioinf StartedAt: 2025-01-30 21:16:15 -0500 (Thu, 30 Jan 2025) EndedAt: 2025-01-30 21:16:33 -0500 (Thu, 30 Jan 2025) EllapsedTime: 18.0 seconds RetCode: 0 Status: OK PackageFile: RBioinf_1.66.0.tar.gz PackageFileSize: 3.436 MiB