Package: RBioinf Version: 1.66.0 Command: /Library/Frameworks/R.framework/Resources/bin/R CMD INSTALL RBioinf StartedAt: 2025-01-30 15:09:49 -0500 (Thu, 30 Jan 2025) EndedAt: 2025-01-30 15:10:01 -0500 (Thu, 30 Jan 2025) EllapsedTime: 11.7 seconds RetCode: 0 Status: OK