Package: RBioinf Version: 1.66.0 Command: /Library/Frameworks/R.framework/Resources/bin/R CMD build --keep-empty-dirs --no-resave-data RBioinf StartedAt: 2025-01-30 22:06:13 -0500 (Thu, 30 Jan 2025) EndedAt: 2025-01-30 22:06:41 -0500 (Thu, 30 Jan 2025) EllapsedTime: 27.9 seconds RetCode: 0 Status: OK PackageFile: RBioinf_1.66.0.tar.gz PackageFileSize: 3.544 MiB