Package: RBioinf Version: 1.66.0 Command: rm -rf RBioinf.buildbin-libdir && mkdir RBioinf.buildbin-libdir && /Users/biocbuild/BBS/utils/build-universal.sh RBioinf_1.66.0.tar.gz /Library/Frameworks/R.framework/Resources/bin/R RBioinf.buildbin-libdir StartedAt: 2025-02-01 16:22:30 -0500 (Sat, 01 Feb 2025) EndedAt: 2025-02-01 16:22:38 -0500 (Sat, 01 Feb 2025) EllapsedTime: 8.0 seconds RetCode: 0 Status: OK PackageFile: RBioinf_1.66.0.tgz PackageFileSize: 3.594 MiB