Package: RBGL Version: 1.82.0 Command: /home/biocbuild/R/R/bin/R CMD INSTALL RBGL StartedAt: 2025-01-30 20:08:58 -0000 (Thu, 30 Jan 2025) EndedAt: 2025-01-30 20:11:27 -0000 (Thu, 30 Jan 2025) EllapsedTime: 149.6 seconds RetCode: 0 Status: OK