Package: RBGL Version: 1.82.0 Command: /home/biocbuild/R/R/bin/R CMD check --install=check:RBGL.install-out.txt --library=/home/biocbuild/R/R/site-library --no-vignettes --timings RBGL_1.82.0.tar.gz StartedAt: 2025-01-31 09:30:54 -0000 (Fri, 31 Jan 2025) EndedAt: 2025-01-31 09:32:07 -0000 (Fri, 31 Jan 2025) EllapsedTime: 73.1 seconds RetCode: 0 Status: WARNINGS CheckDir: RBGL.Rcheck Warnings: 1