Package: RBGL Version: 1.82.0 Command: F:\biocbuild\bbs-3.20-bioc\R\bin\R.exe CMD check --no-multiarch --install=check:RBGL.install-out.txt --library=F:\biocbuild\bbs-3.20-bioc\R\library --no-vignettes --timings RBGL_1.82.0.tar.gz StartedAt: 2025-01-31 05:29:25 -0500 (Fri, 31 Jan 2025) EndedAt: 2025-01-31 05:31:02 -0500 (Fri, 31 Jan 2025) EllapsedTime: 97.0 seconds RetCode: 0 Status: WARNINGS CheckDir: RBGL.Rcheck Warnings: 1