Package: RBGL Version: 1.82.0 Command: rm -rf RBGL.buildbin-libdir && mkdir RBGL.buildbin-libdir && F:\biocbuild\bbs-3.20-bioc\R\bin\R.exe CMD INSTALL --build --library=RBGL.buildbin-libdir RBGL_1.82.0.tar.gz StartedAt: 2025-01-31 09:22:31 -0500 (Fri, 31 Jan 2025) EndedAt: 2025-01-31 09:26:42 -0500 (Fri, 31 Jan 2025) EllapsedTime: 250.8 seconds RetCode: 0 Status: OK PackageFile: RBGL_1.82.0.zip PackageFileSize: 2.91 MiB