Package: RBGL Version: 1.82.0 Command: /Library/Frameworks/R.framework/Resources/bin/R CMD INSTALL RBGL StartedAt: 2025-01-30 15:09:06 -0500 (Thu, 30 Jan 2025) EndedAt: 2025-01-30 15:10:34 -0500 (Thu, 30 Jan 2025) EllapsedTime: 88.2 seconds RetCode: 0 Status: OK