Package: RAREsim Version: 1.10.0 Command: /home/biocbuild/R/R/bin/R CMD build --keep-empty-dirs --no-resave-data RAREsim StartedAt: 2025-01-31 02:00:03 -0000 (Fri, 31 Jan 2025) EndedAt: 2025-01-31 02:00:11 -0000 (Fri, 31 Jan 2025) EllapsedTime: 8.0 seconds RetCode: 0 Status: OK PackageFile: RAREsim_1.10.0.tar.gz PackageFileSize: 292.3 KiB