Package: R4RNA Version: 1.34.0 Command: F:\biocbuild\bbs-3.20-bioc\R\bin\R.exe CMD INSTALL R4RNA StartedAt: 2025-01-30 15:43:51 -0500 (Thu, 30 Jan 2025) EndedAt: 2025-01-30 15:44:16 -0500 (Thu, 30 Jan 2025) EllapsedTime: 24.8 seconds RetCode: 0 Status: OK