Package: R4RNA Version: 1.34.0 Command: F:\biocbuild\bbs-3.20-bioc\R\bin\R.exe CMD check --no-multiarch --install=check:R4RNA.install-out.txt --library=F:\biocbuild\bbs-3.20-bioc\R\library --no-vignettes --timings R4RNA_1.34.0.tar.gz StartedAt: 2025-01-31 05:26:51 -0500 (Fri, 31 Jan 2025) EndedAt: 2025-01-31 05:28:21 -0500 (Fri, 31 Jan 2025) EllapsedTime: 89.5 seconds RetCode: 0 Status: OK CheckDir: R4RNA.Rcheck Warnings: 0