Package: R4RNA Version: 1.34.0 Command: /Library/Frameworks/R.framework/Resources/bin/R CMD INSTALL R4RNA StartedAt: 2025-01-30 15:23:49 -0500 (Thu, 30 Jan 2025) EndedAt: 2025-01-30 15:24:14 -0500 (Thu, 30 Jan 2025) EllapsedTime: 25.1 seconds RetCode: 0 Status: OK