Package: R453Plus1Toolbox Version: 1.56.0 Command: /home/biocbuild/R/R/bin/R CMD check --install=check:R453Plus1Toolbox.install-out.txt --library=/home/biocbuild/R/R/site-library --no-vignettes --timings R453Plus1Toolbox_1.56.0.tar.gz StartedAt: 2025-01-31 09:28:27 -0000 (Fri, 31 Jan 2025) EndedAt: 2025-01-31 09:35:49 -0000 (Fri, 31 Jan 2025) EllapsedTime: 442.6 seconds RetCode: 0 Status: OK CheckDir: R453Plus1Toolbox.Rcheck Warnings: 0