Package: R453Plus1Toolbox Version: 1.56.0 Command: F:\biocbuild\bbs-3.20-bioc\R\bin\R.exe CMD check --no-multiarch --install=check:R453Plus1Toolbox.install-out.txt --library=F:\biocbuild\bbs-3.20-bioc\R\library --no-vignettes --timings R453Plus1Toolbox_1.56.0.tar.gz StartedAt: 2025-01-31 05:26:38 -0500 (Fri, 31 Jan 2025) EndedAt: 2025-01-31 05:34:04 -0500 (Fri, 31 Jan 2025) EllapsedTime: 446.3 seconds RetCode: 0 Status: OK CheckDir: R453Plus1Toolbox.Rcheck Warnings: 0