Package: R453Plus1Toolbox Version: 1.56.0 Command: rm -rf R453Plus1Toolbox.buildbin-libdir && mkdir R453Plus1Toolbox.buildbin-libdir && F:\biocbuild\bbs-3.20-bioc\R\bin\R.exe CMD INSTALL --build --library=R453Plus1Toolbox.buildbin-libdir R453Plus1Toolbox_1.56.0.tar.gz StartedAt: 2025-01-31 09:21:25 -0500 (Fri, 31 Jan 2025) EndedAt: 2025-01-31 09:31:08 -0500 (Fri, 31 Jan 2025) EllapsedTime: 583.7 seconds RetCode: 0 Status: OK PackageFile: R453Plus1Toolbox_1.56.0.zip PackageFileSize: 2.252 MiB