Package: R453Plus1Toolbox Version: 1.56.0 Command: /home/biocbuild/bbs-3.20-bioc/R/bin/R CMD check --install=check:R453Plus1Toolbox.install-out.txt --library=/home/biocbuild/bbs-3.20-bioc/R/site-library --timings R453Plus1Toolbox_1.56.0.tar.gz StartedAt: 2025-01-31 01:22:20 -0500 (Fri, 31 Jan 2025) EndedAt: 2025-01-31 01:28:49 -0500 (Fri, 31 Jan 2025) EllapsedTime: 388.7 seconds RetCode: 0 Status: OK CheckDir: R453Plus1Toolbox.Rcheck Warnings: 0