Package: R453Plus1Toolbox Version: 1.56.0 Command: /home/biocbuild/bbs-3.20-bioc/R/bin/R CMD build --keep-empty-dirs --no-resave-data --md5 R453Plus1Toolbox StartedAt: 2025-01-30 18:42:04 -0500 (Thu, 30 Jan 2025) EndedAt: 2025-01-30 18:43:54 -0500 (Thu, 30 Jan 2025) EllapsedTime: 110.1 seconds RetCode: 0 Status: OK PackageFile: R453Plus1Toolbox_1.56.0.tar.gz PackageFileSize: 846.1 KiB