Package: R453Plus1Toolbox Version: 1.56.0 Command: /Library/Frameworks/R.framework/Resources/bin/R CMD INSTALL R453Plus1Toolbox StartedAt: 2025-01-30 15:52:29 -0500 (Thu, 30 Jan 2025) EndedAt: 2025-01-30 15:55:13 -0500 (Thu, 30 Jan 2025) EllapsedTime: 163.9 seconds RetCode: 0 Status: OK