Package: R453Plus1Toolbox Version: 1.56.0 Command: rm -rf R453Plus1Toolbox.buildbin-libdir && mkdir R453Plus1Toolbox.buildbin-libdir && /Users/biocbuild/BBS/utils/build-universal.sh R453Plus1Toolbox_1.56.0.tar.gz /Library/Frameworks/R.framework/Resources/bin/R R453Plus1Toolbox.buildbin-libdir StartedAt: 2025-01-31 13:27:15 -0500 (Fri, 31 Jan 2025) EndedAt: 2025-01-31 13:30:06 -0500 (Fri, 31 Jan 2025) EllapsedTime: 170.4 seconds RetCode: 0 Status: OK PackageFile: R453Plus1Toolbox_1.56.0.tgz PackageFileSize: 2.264 MiB