Package: R453Plus1Toolbox Version: 1.56.0 Command: /Library/Frameworks/R.framework/Resources/bin/R CMD INSTALL R453Plus1Toolbox StartedAt: 2025-01-30 16:32:25 -0500 (Thu, 30 Jan 2025) EndedAt: 2025-01-30 16:33:47 -0500 (Thu, 30 Jan 2025) EllapsedTime: 82.5 seconds RetCode: 0 Status: OK