Package: QUBIC Version: 1.34.0 Command: F:\biocbuild\bbs-3.20-bioc\R\bin\R.exe CMD INSTALL QUBIC StartedAt: 2025-01-30 16:43:41 -0500 (Thu, 30 Jan 2025) EndedAt: 2025-01-30 16:44:20 -0500 (Thu, 30 Jan 2025) EllapsedTime: 39.2 seconds RetCode: 0 Status: OK