Package: QUBIC Version: 1.34.0 Command: /Library/Frameworks/R.framework/Resources/bin/R CMD INSTALL QUBIC StartedAt: 2025-01-30 16:30:03 -0500 (Thu, 30 Jan 2025) EndedAt: 2025-01-30 16:31:05 -0500 (Thu, 30 Jan 2025) EllapsedTime: 62.0 seconds RetCode: 0 Status: OK