Package: QUBIC Version: 1.34.0 Command: rm -rf QUBIC.buildbin-libdir && mkdir QUBIC.buildbin-libdir && /Users/biocbuild/BBS/utils/build-universal.sh QUBIC_1.34.0.tar.gz /Library/Frameworks/R.framework/Resources/bin/R QUBIC.buildbin-libdir StartedAt: 2024-11-20 04:44:31 -0500 (Wed, 20 Nov 2024) EndedAt: 2024-11-20 04:45:16 -0500 (Wed, 20 Nov 2024) EllapsedTime: 45.0 seconds RetCode: 0 Status: OK PackageFile: QUBIC_1.34.0.tgz PackageFileSize: 633.7 KiB