Package: QTLExperiment Version: 1.4.0 Command: /home/biocbuild/R/R/bin/R CMD build --keep-empty-dirs --no-resave-data QTLExperiment StartedAt: 2025-01-31 01:56:20 -0000 (Fri, 31 Jan 2025) EndedAt: 2025-01-31 01:57:10 -0000 (Fri, 31 Jan 2025) EllapsedTime: 50.1 seconds RetCode: 0 Status: OK PackageFile: QTLExperiment_1.4.0.tar.gz PackageFileSize: 680.3 KiB