Package: QSutils Version: 1.24.0 Command: F:\biocbuild\bbs-3.20-bioc\R\bin\R.exe CMD check --no-multiarch --install=check:QSutils.install-out.txt --library=F:\biocbuild\bbs-3.20-bioc\R\library --no-vignettes --timings QSutils_1.24.0.tar.gz StartedAt: 2025-01-31 05:22:56 -0500 (Fri, 31 Jan 2025) EndedAt: 2025-01-31 05:24:33 -0500 (Fri, 31 Jan 2025) EllapsedTime: 96.4 seconds RetCode: 0 Status: OK CheckDir: QSutils.Rcheck Warnings: 0