Package: QFeatures Version: 1.16.0 Command: /home/biocbuild/R/R/bin/R CMD INSTALL QFeatures StartedAt: 2025-01-30 20:41:39 -0000 (Thu, 30 Jan 2025) EndedAt: 2025-01-30 20:42:14 -0000 (Thu, 30 Jan 2025) EllapsedTime: 35.1 seconds RetCode: 0 Status: OK