Package: QFeatures Version: 1.16.0 Command: /Library/Frameworks/R.framework/Resources/bin/R CMD build --keep-empty-dirs --no-resave-data QFeatures StartedAt: 2025-01-31 05:49:06 -0500 (Fri, 31 Jan 2025) EndedAt: 2025-01-31 05:50:41 -0500 (Fri, 31 Jan 2025) EllapsedTime: 94.5 seconds RetCode: 0 Status: OK PackageFile: QFeatures_1.16.0.tar.gz PackageFileSize: 2.946 MiB