Package: Pviz Version: 1.40.0 Command: /Library/Frameworks/R.framework/Resources/bin/R CMD build --keep-empty-dirs --no-resave-data Pviz StartedAt: 2025-01-31 05:46:44 -0500 (Fri, 31 Jan 2025) EndedAt: 2025-01-31 05:49:06 -0500 (Fri, 31 Jan 2025) EllapsedTime: 142.7 seconds RetCode: 0 Status: OK PackageFile: Pviz_1.40.0.tar.gz PackageFileSize: 203.1 KiB